BEGIN:VCALENDAR
VERSION:2.0
PRODID:-//eventon.com NONSGML v1.0//EN
CALSCALE:GREGORIAN
METHOD:PUBLISH
BEGIN:VEVENT
UID:69e74c0a31f2b
DTSTAMP:20260421T100602Z
DTSTART:20230921T073000Z
DTEND:20230921T090000Z
LOCATION:
SUMMARY:Supervision Gruppe 4 Kinderdorf Uslar
DESCRIPTION:MitarbeiterInnen der stationären Jugendhilfe Ort: Besprechungs
 raum im Berufsförderzentrum\nhttps://www.familienwerk.de/termine/supervisi
 on-gruppe-4-kinderdorf-uslar/
URL:https://www.familienwerk.de/termine/supervision-gruppe-4-kinderdorf-uslar/
END:VEVENT
END:VCALENDAR