BEGIN:VCALENDAR
VERSION:2.0
PRODID:-//eventon.com NONSGML v1.0//EN
CALSCALE:GREGORIAN
METHOD:PUBLISH
BEGIN:VEVENT
UID:69e5e637dcb31
DTSTAMP:20260420T083919Z
DTSTART:20201103T143600Z
DTEND:20201103T143600Z
LOCATION:Albert-Schweitzer-Altenhilfe Bleckede Albert-Schweitzer-Weg 2-6\,  21354 Bleckede
SUMMARY:Jährlich wiederkehrenderer Temin
DESCRIPTION:GeburtstagskaffeeWas? Geburtstagskaffee für alle Geburtstagski
 nder der Monate Juli bis September. Räumlichkeit im oberen Gruppenraum\nht
 tps://www.familienwerk.de/termine/jaehrlich-wiederkehrenderer-temin/
URL:https://www.familienwerk.de/termine/jaehrlich-wiederkehrenderer-temin/
END:VEVENT
END:VCALENDAR