BEGIN:VCALENDAR
VERSION:2.0
PRODID:-//eventon.com NONSGML v1.0//EN
CALSCALE:GREGORIAN
METHOD:PUBLISH
BEGIN:VEVENT
UID:69e5e092228b6
DTSTAMP:20260420T081514Z
DTSTART:20201104T024200Z
DTEND:20201104T024200Z
LOCATION:Albert-Schweitzer-Altenhilfe Bleckede Albert-Schweitzer-Weg 2-6\,  21354 Bleckede
SUMMARY:Wöchentlich wiederkehrender Temin
DESCRIPTION:GeburtstagskaffeeWas? Geburtstagskaffee für alle Geburtstagski
 nder der Monate Juli bis September. Räumlichkeit im oberen Gruppenraum\nht
 tps://www.familienwerk.de/termine/woechentlich-wiederkehrender-temin/
URL:https://www.familienwerk.de/termine/woechentlich-wiederkehrender-temin/
END:VEVENT
END:VCALENDAR