BEGIN:VCALENDAR
VERSION:2.0
PRODID:-//eventon.com NONSGML v1.0//EN
CALSCALE:GREGORIAN
METHOD:PUBLISH
BEGIN:VEVENT
UID:69e5e09ee0c55
DTSTAMP:20260420T081526Z
DTSTART:20200926
DTEND:20200927
LOCATION:Albert-Schweitzer-Altenhilfe Bleckede Albert-Schweitzer-Weg 2-6\,  21354 Bleckede
SUMMARY:Test Eike
DESCRIPTION:Eike Test TerminWas? Ist das jetzt das Beschreibungsfeld? Räum
 lichkeit Begegnungsstätte\nhttps://www.familienwerk.de/termine/test-eike/
URL:https://www.familienwerk.de/termine/test-eike/
END:VEVENT
END:VCALENDAR