BEGIN:VCALENDAR
VERSION:2.0
PRODID:-//eventon.com NONSGML v1.0//EN
CALSCALE:GREGORIAN
METHOD:PUBLISH
BEGIN:VEVENT
UID:69e5f8004704d
DTSTAMP:20260420T095512Z
DTSTART:20200919
DTEND:20200920
LOCATION:Albert-Schweitzer-Altenhilfe Bleckede Albert-Schweitzer-Weg 2-6\,  21354 Bleckede
SUMMARY:Weltalzheimerwoche
DESCRIPTION:WeltalzheimerwocheWas? Eine tollr Aktion Räumlichkeit im Speis
 esaal\nhttps://www.familienwerk.de/termine/weltalzheimerwoche/
URL:https://www.familienwerk.de/termine/weltalzheimerwoche/
END:VEVENT
END:VCALENDAR