BEGIN:VCALENDAR
VERSION:2.0
PRODID:-//eventon.com NONSGML v1.0//EN
CALSCALE:GREGORIAN
METHOD:PUBLISH
BEGIN:VEVENT
UID:69e89d9601bc8
DTSTAMP:20260422T100614Z
DTSTART:20200815T150000Z
DTEND:20200815T235000Z
LOCATION:Albert-Schweitzer-Altenhilfe Bleckede Albert-Schweitzer-Weg 2-6\,  21354 Bleckede
SUMMARY:Picknick im Garten
DESCRIPTION:Picknick im GartenWas? Wir picknick im Garten unter den Obstbä
 umen. Der Eiswagen kommt vorbei. Räumlichkeit im Garten\nhttps://www.famil
 ienwerk.de/termine/picknick-im-garten/
URL:https://www.familienwerk.de/termine/picknick-im-garten/
END:VEVENT
END:VCALENDAR