BEGIN:VCALENDAR
VERSION:2.0
PRODID:-//eventon.com NONSGML v1.0//EN
CALSCALE:GREGORIAN
METHOD:PUBLISH
BEGIN:VEVENT
UID:69e5e61fb357d
DTSTAMP:20260420T083855Z
DTSTART:20200720T150000Z
DTEND:20200720T235000Z
LOCATION:Albert-Schweitzer-Altenhilfe Bleckede Albert-Schweitzer-Weg 2-6\,  21354 Bleckede
SUMMARY:Sommerfest
DESCRIPTION:SommerfestWas? Sommerfest mit viel Musik und weiteren Aktionen\
 ,  Speis und Trank. Räumlichkeit im großen Zelt\nhttps://www.familienwerk
 .de/termine/sommerfest/
URL:https://www.familienwerk.de/termine/sommerfest/
END:VEVENT
END:VCALENDAR