BEGIN:VCALENDAR
VERSION:2.0
PRODID:-//eventon.com NONSGML v1.0//EN
CALSCALE:GREGORIAN
METHOD:PUBLISH
BEGIN:VEVENT
UID:69e5e09248ec6
DTSTAMP:20260420T081514Z
DTSTART:20200619T160000Z
DTEND:20200619T235000Z
LOCATION:Albert-Schweitzer-Altenhilfe Bleckede Albert-Schweitzer-Weg 2-6\,  21354 Bleckede
SUMMARY:Kinder führen Tänze vor
DESCRIPTION:Kinder führen Tänze vorWas? Kinder führen Tänze vor. Räuml
 ichkeit im Speisesaal\nhttps://www.familienwerk.de/termine/kinder-fuehren-t
 aenze-vor/
URL:https://www.familienwerk.de/termine/kinder-fuehren-taenze-vor/
END:VEVENT
END:VCALENDAR