BEGIN:VCALENDAR
VERSION:2.0
PRODID:-//eventon.com NONSGML v1.0//EN
CALSCALE:GREGORIAN
METHOD:PUBLISH
BEGIN:VEVENT
UID:69e73b5397453
DTSTAMP:20260421T085443Z
DTSTART:20200411T150000Z
DTEND:20200411T235000Z
LOCATION:Albert-Schweitzer-Altenhilfe Bleckede Albert-Schweitzer-Weg 2-6\,  21354 Bleckede
SUMMARY:Geburtstagskaffee im April
DESCRIPTION:GeburtstagskaffeeWas? Geburtstagskaffee für alle Geburtstagski
 nder der Monate Januar bis März. Räumlichkeit im oberen Gruppenraum\nhttp
 s://www.familienwerk.de/termine/geburtstagskaffee-im-april/
URL:https://www.familienwerk.de/termine/geburtstagskaffee-im-april/
END:VEVENT
END:VCALENDAR