BEGIN:VCALENDAR
VERSION:2.0
PRODID:-//eventon.com NONSGML v1.0//EN
CALSCALE:GREGORIAN
METHOD:PUBLISH
BEGIN:VEVENT
UID:69e74920c0b57
DTSTAMP:20260421T095336Z
DTSTART:20200123T100000Z
DTEND:20200123T235000Z
LOCATION:Albert-Schweitzer-Altenhilfe Bleckede - im Speisesaal Albert-Schweitzer-Weg 2-6\,  21354 Bleckede
SUMMARY:Evangelischer Gottesdienst
DESCRIPTION:Evangelischer GottesdienstWas? Einmal im Monat treffen wir uns 
 zum gemeinsamen evangelischen Gottesdienst. Alle zwei Monate veranstalten w
 ir ein Abendmahl. Räumlichkeit im Speisesaal\nhttps://www.familienwerk.de/
 termine/evangelischer-gottesdienst/
URL:https://www.familienwerk.de/termine/evangelischer-gottesdienst/
END:VEVENT
END:VCALENDAR