BEGIN:VCALENDAR
VERSION:2.0
PRODID:-//eventon.com NONSGML v1.0//EN
CALSCALE:GREGORIAN
METHOD:PUBLISH
BEGIN:VEVENT
UID:69e74aac452c8
DTSTAMP:20260421T100012Z
DTSTART:20200117T160000Z
DTEND:20200117T235000Z
LOCATION:Albert-Schweitzer-Altenhilfe Bleckede - im Speisesaal Albert-Schweitzer-Weg 2-6\,  21354 Bleckede
SUMMARY:Jahresrückshow
DESCRIPTION:JahresrückshowWas? Wir zeigen Dias aus dem letzten Jahr. Räum
 lichkeit im Speisesaale\nhttps://www.familienwerk.de/termine/jahresruecksho
 w/
URL:https://www.familienwerk.de/termine/jahresrueckshow/
END:VEVENT
END:VCALENDAR