BEGIN:VCALENDAR
VERSION:2.0
PRODID:-//eventon.com NONSGML v1.0//EN
CALSCALE:GREGORIAN
METHOD:PUBLISH
BEGIN:VEVENT
UID:69e74a9247588
DTSTAMP:20260421T095946Z
DTSTART:20200108T160000Z
DTEND:20200108T235000Z
LOCATION:Albert-Schweitzer-Altenhilfe Bleckede Albert-Schweitzer-Weg 2-6\,  21354 Bleckede
SUMMARY:Erzählstunde
DESCRIPTION:ErzählstundeWas? Wechselndes Angebot wird vorher bekannt gegeb
 en. Räumlichkeit im Speisesaal\nhttps://www.familienwerk.de/termine/erzaeh
 lstunde/
URL:https://www.familienwerk.de/termine/erzaehlstunde/
END:VEVENT
END:VCALENDAR