BEGIN:VCALENDAR
VERSION:2.0
PRODID:-//eventon.com NONSGML v1.0//EN
CALSCALE:GREGORIAN
METHOD:PUBLISH
BEGIN:VEVENT
UID:69e5f7f7b09e8
DTSTAMP:20260420T095503Z
DTSTART:20230912T210000Z
DTEND:20230917T050000Z
LOCATION:
SUMMARY:Kinderzirkus im Albert-Schweitzer-Kinderdorf
DESCRIPTION:Das Albert-Schweitzer-Kinderdorf in Alt Garge entführt die Kin
 der eine ganze Woche lang in die spannende Zirkus-Welt\nhttps://www.familie
 nwerk.de/termine/kinderzirkus-im-albert-schweitzer-kinderdorf/
URL:https://www.familienwerk.de/termine/kinderzirkus-im-albert-schweitzer-kinderdorf/
END:VEVENT
END:VCALENDAR