BEGIN:VCALENDAR
VERSION:2.0
PRODID:-//eventon.com NONSGML v1.0//EN
CALSCALE:GREGORIAN
METHOD:PUBLISH
BEGIN:VEVENT
UID:69e74c09011f0
DTSTAMP:20260421T100601Z
DTSTART:20240529T130000Z
DTEND:20240529T160000Z
LOCATION:
SUMMARY:Kinderfest 2024 in Uslar
DESCRIPTION:Kinderfest 2024Kinderfest in Uslar In der Langen Straße\nhttps
 ://www.familienwerk.de/termine/kinderfest-2024-in-uslar/
URL:https://www.familienwerk.de/termine/kinderfest-2024-in-uslar/
END:VEVENT
END:VCALENDAR