BEGIN:VCALENDAR
VERSION:2.0
PRODID:-//eventon.com NONSGML v1.0//EN
CALSCALE:GREGORIAN
METHOD:PUBLISH
BEGIN:VEVENT
UID:69e74c0b28d9a
DTSTAMP:20260421T100603Z
DTSTART:20220509T063000Z
DTEND:20220509T143000Z
LOCATION:Berufsbildenden Schulen des Albert-Schweitzer-Familienwerk e.V. Jahnstraße 2\,  37170 Uslar
SUMMARY:Reden ist Silber - Zuhören Gold
DESCRIPTION:„Reden ist Silber &#8211; Zuhören Gold“Chancen konstruktiv
 er KommunikationWie kann erfolgreiche Kommunikation auch im Arbeitsalltag g
 elingen? Ziele Ziel dieser Fortbildung ist es\,  die grundlegenden Mechanis
 men der menschlichen Kommunikation genau anzuschauen\,  deren Möglichkeite
 n und Grenzen besser zu erkennen und so die Kommunikation im Arbeitsalltag 
 zu erleichtern. Inhaltliche Schwerpunkte Bedeutung von Kommunikation &#8211
 ;[..]\nhttps://www.familienwerk.de/termine/reden-ist-silber-zuhoeren-gold/
URL:https://www.familienwerk.de/termine/reden-ist-silber-zuhoeren-gold/
END:VEVENT
END:VCALENDAR