BEGIN:VCALENDAR
VERSION:2.0
PRODID:-//eventon.com NONSGML v1.0//EN
CALSCALE:GREGORIAN
METHOD:PUBLISH
BEGIN:VEVENT
UID:69e5fa67e119d
DTSTAMP:20260420T100527Z
DTSTART:20210610T080000Z
DTEND:20210609T220000Z
LOCATION:Northeim Bahnhofstr. 26\,  37154 Northeim
SUMMARY:Tiere und Natur
DESCRIPTION:Tiere und Natur\nhttps://www.familienwerk.de/termine/tiere-und-
 natur/
URL:https://www.familienwerk.de/termine/tiere-und-natur/
END:VEVENT
END:VCALENDAR