BEGIN:VCALENDAR
VERSION:2.0
PRODID:-//eventon.com NONSGML v1.0//EN
CALSCALE:GREGORIAN
METHOD:PUBLISH
BEGIN:VEVENT
UID:69e89d95d72c4
DTSTAMP:20260422T100613Z
DTSTART:20210804T143000Z
DTEND:20210804T173000Z
LOCATION:Northeim Bahnhofstr. 26\,  37154 Northeim
SUMMARY:Freizeitgruppe Northeim
DESCRIPTION:Freizeitgruppe Northeim\nhttps://www.familienwerk.de/termine/fr
 eizeitgruppe-northeim/var/ri-8.l-L1
URL:https://www.familienwerk.de/termine/freizeitgruppe-northeim/var/ri-8.l-L1
END:VEVENT
END:VCALENDAR