BEGIN:VCALENDAR
VERSION:2.0
PRODID:-//eventon.com NONSGML v1.0//EN
CALSCALE:GREGORIAN
METHOD:PUBLISH
BEGIN:VEVENT
UID:69e677cb0b2e7
DTSTAMP:20260420T190027Z
DTSTART:20210721T143000Z
DTEND:20210721T173000Z
LOCATION:Northeim Bahnhofstr. 26\,  37154 Northeim
SUMMARY:Freizeitgruppe Northeim
DESCRIPTION:Freizeitgruppe Northeim\nhttps://www.familienwerk.de/termine/fr
 eizeitgruppe-northeim/var/ri-6.l-L1
URL:https://www.familienwerk.de/termine/freizeitgruppe-northeim/var/ri-6.l-L1
END:VEVENT
END:VCALENDAR