BEGIN:VCALENDAR
VERSION:2.0
PRODID:-//eventon.com NONSGML v1.0//EN
CALSCALE:GREGORIAN
METHOD:PUBLISH
BEGIN:VEVENT
UID:69ed59555e600
DTSTAMP:20260426T001621Z
DTSTART:20220223T153000Z
DTEND:20220223T183000Z
LOCATION:Northeim Bahnhofstr. 26\,  37154 Northeim
SUMMARY:Freizeitgruppe Northeim
DESCRIPTION:Freizeitgruppe Northeim\nhttps://www.familienwerk.de/termine/fr
 eizeitgruppe-northeim/var/ri-37.l-L1
URL:https://www.familienwerk.de/termine/freizeitgruppe-northeim/var/ri-37.l-L1
END:VEVENT
END:VCALENDAR