BEGIN:VCALENDAR
VERSION:2.0
PRODID:-//eventon.com NONSGML v1.0//EN
CALSCALE:GREGORIAN
METHOD:PUBLISH
BEGIN:VEVENT
UID:69ea6503d6f09
DTSTAMP:20260423T182923Z
DTSTART:20211215T153000Z
DTEND:20211215T183000Z
LOCATION:Northeim Bahnhofstr. 26\,  37154 Northeim
SUMMARY:Freizeitgruppe Northeim
DESCRIPTION:Freizeitgruppe Northeim\nhttps://www.familienwerk.de/termine/fr
 eizeitgruppe-northeim/var/ri-27.l-L1
URL:https://www.familienwerk.de/termine/freizeitgruppe-northeim/var/ri-27.l-L1
END:VEVENT
END:VCALENDAR