BEGIN:VCALENDAR
VERSION:2.0
PRODID:-//eventon.com NONSGML v1.0//EN
CALSCALE:GREGORIAN
METHOD:PUBLISH
BEGIN:VEVENT
UID:69e6354aceb4c
DTSTAMP:20260420T141642Z
DTSTART:20210623T143000Z
DTEND:20210623T173000Z
LOCATION:Northeim Bahnhofstr. 26\,  37154 Northeim
SUMMARY:Freizeitgruppe Northeim
DESCRIPTION:Freizeitgruppe Northeim\nhttps://www.familienwerk.de/termine/fr
 eizeitgruppe-northeim/var/ri-2.l-L1
URL:https://www.familienwerk.de/termine/freizeitgruppe-northeim/var/ri-2.l-L1
END:VEVENT
END:VCALENDAR