BEGIN:VCALENDAR
VERSION:2.0
PRODID:-//eventon.com NONSGML v1.0//EN
CALSCALE:GREGORIAN
METHOD:PUBLISH
BEGIN:VEVENT
UID:69e9a753cdd0a
DTSTAMP:20260423T050003Z
DTSTART:20211020T143000Z
DTEND:20211020T173000Z
LOCATION:Northeim Bahnhofstr. 26\,  37154 Northeim
SUMMARY:Freizeitgruppe Northeim
DESCRIPTION:Freizeitgruppe Northeim\nhttps://www.familienwerk.de/termine/fr
 eizeitgruppe-northeim/var/ri-19.l-L1
URL:https://www.familienwerk.de/termine/freizeitgruppe-northeim/var/ri-19.l-L1
END:VEVENT
END:VCALENDAR