BEGIN:VCALENDAR
VERSION:2.0
PRODID:-//eventon.com NONSGML v1.0//EN
CALSCALE:GREGORIAN
METHOD:PUBLISH
BEGIN:VEVENT
UID:69e60994761ce
DTSTAMP:20260420T111012Z
DTSTART:20210609T143000Z
DTEND:20210609T173000Z
LOCATION:Northeim Bahnhofstr. 26\,  37154 Northeim
SUMMARY:Freizeitgruppe Northeim
DESCRIPTION:Freizeitgruppe Northeim\nhttps://www.familienwerk.de/termine/fr
 eizeitgruppe-northeim/
URL:https://www.familienwerk.de/termine/freizeitgruppe-northeim/
END:VEVENT
END:VCALENDAR