BEGIN:VCALENDAR
VERSION:2.0
PRODID:-//eventon.com NONSGML v1.0//EN
CALSCALE:GREGORIAN
METHOD:PUBLISH
BEGIN:VEVENT
UID:69e6ab1983c7d
DTSTAMP:20260420T223921Z
DTSTART:20210803T080000Z
DTEND:20210803T110000Z
LOCATION:Göttingen Kurze Geismarstr. 16-18 - Hinterhaus\,  37073 Göttingen
SUMMARY:Fahrservice
DESCRIPTION:Fahrservice\nhttps://www.familienwerk.de/termine/fahrservice/va
 r/ri-8.l-L1
URL:https://www.familienwerk.de/termine/fahrservice/var/ri-8.l-L1
END:VEVENT
END:VCALENDAR