BEGIN:VCALENDAR
VERSION:2.0
PRODID:-//eventon.com NONSGML v1.0//EN
CALSCALE:GREGORIAN
METHOD:PUBLISH
BEGIN:VEVENT
UID:69e664aadb72f
DTSTAMP:20260420T173850Z
DTSTART:20210713T080000Z
DTEND:20210713T110000Z
LOCATION:Göttingen Kurze Geismarstr. 16-18 - Hinterhaus\,  37073 Göttingen
SUMMARY:Fahrservice
DESCRIPTION:Fahrservice\nhttps://www.familienwerk.de/termine/fahrservice/va
 r/ri-5.l-L1
URL:https://www.familienwerk.de/termine/fahrservice/var/ri-5.l-L1
END:VEVENT
END:VCALENDAR