BEGIN:VCALENDAR
VERSION:2.0
PRODID:-//eventon.com NONSGML v1.0//EN
CALSCALE:GREGORIAN
METHOD:PUBLISH
BEGIN:VEVENT
UID:69ea3a0a01e62
DTSTAMP:20260423T152602Z
DTSTART:20210907T080000Z
DTEND:20210907T110000Z
LOCATION:Göttingen Kurze Geismarstr. 16-18 - Hinterhaus\,  37073 Göttingen
SUMMARY:Fahrservice
DESCRIPTION:Fahrservice\nhttps://www.familienwerk.de/termine/fahrservice/va
 r/ri-13.l-L1
URL:https://www.familienwerk.de/termine/fahrservice/var/ri-13.l-L1
END:VEVENT
END:VCALENDAR