BEGIN:VCALENDAR
VERSION:2.0
PRODID:-//eventon.com NONSGML v1.0//EN
CALSCALE:GREGORIAN
METHOD:PUBLISH
BEGIN:VEVENT
UID:69eaec585d8e6
DTSTAMP:20260424T040648Z
DTSTART:20240114T050000Z
DTEND:20240114T063000Z
LOCATION:
SUMMARY:Orgelkonzert
DESCRIPTION:Orgelkonzert in der Marktkirche in HannoverOrgelkonzert &#8211;
  Livestream &#8211; ab 18.00Uhr\nhttps://www.familienwerk.de/termine/orgelk
 onzert/
URL:https://www.familienwerk.de/termine/orgelkonzert/
END:VEVENT
END:VCALENDAR