BEGIN:VCALENDAR
VERSION:2.0
PRODID:-//eventon.com NONSGML v1.0//EN
CALSCALE:GREGORIAN
METHOD:PUBLISH
BEGIN:VEVENT
UID:69e5fa6825ea8
DTSTAMP:20260420T100528Z
DTSTART:20211213T073000Z
DTEND:20211213T153000Z
LOCATION:Berufsbildenden Schulen des Albert-Schweitzer-Familienwerk e.V. Jahnstraße 2\,  37170 Uslar
SUMMARY:Praxisanleitung in der Pflege III
DESCRIPTION:Praxisanleitung in der Pflege IIIdie eigene Rolle reflektieren 
 &#8211; informieren und erklären &#8211; beurteilen in der Praxis Jährlic
 he Fortbildungen für Praxisanleitungen in der Pflege (24 Std. jährlich vo
 rgeschrieben) Jährliche Fortbildungen für Praxisanleitungen in der Pflege
  (24 Std. jährlich vorgeschrieben) Montag 11.10.2021 &#8211; Praxisanleitu
 ng in der Pflege I &#8211; die eigene[..]\nhttps://www.familienwerk.de/term
 ine/praxisanleitung-in-der-pflege-iii/
URL:https://www.familienwerk.de/termine/praxisanleitung-in-der-pflege-iii/
END:VEVENT
END:VCALENDAR