BEGIN:VCALENDAR
VERSION:2.0
PRODID:-//eventon.com NONSGML v1.0//EN
CALSCALE:GREGORIAN
METHOD:PUBLISH
BEGIN:VEVENT
UID:69e73b52d68cb
DTSTAMP:20260421T085442Z
DTSTART:20221107T073000Z
DTEND:20221107T153000Z
LOCATION:Berufsbildenden Schulen des Albert-Schweitzer-Familienwerk e.V. Jahnstraße 2\,  37170 Uslar
SUMMARY:Praxisanleitung in der Pflege II
DESCRIPTION:Praxisanleitung in der Pflege IIwas und wie kommunizieren Jähr
 liche Fortbildungen für Praxisanleitungen in der Pflege (24 Std. jährlich
  vorgeschrieben) Jährliche Fortbildungen für Praxisanleitungen in der Pfl
 ege (24 Std. jährlich vorgeschrieben) Montag 10.10.2022 &#8211; Praxisanle
 itung in der Pflege I Montag 07.11.2022 &#8211; Praxisanleitung in der Pfle
 ge II Montag 12.12.2022 &#8211; Praxisanleitung[..]\nhttps://www.familienwe
 rk.de/termine/praxisanleitung-in-der-pflege-ii/
URL:https://www.familienwerk.de/termine/praxisanleitung-in-der-pflege-ii/
END:VEVENT
END:VCALENDAR