BEGIN:VCALENDAR
VERSION:2.0
PRODID:-//eventon.com NONSGML v1.0//EN
CALSCALE:GREGORIAN
METHOD:PUBLISH
BEGIN:VEVENT
UID:69e74aa9c6d9e
DTSTAMP:20260421T100009Z
DTSTART:20221010T063000Z
DTEND:20221010T143000Z
LOCATION:Berufsbildenden Schulen des Albert-Schweitzer-Familienwerk e.V. Jahnstraße 2\,  37170 Uslar
SUMMARY:Praxisanleitung in der Pflege I
DESCRIPTION:Praxisanleitung in der Pflegeneues Rollenverständnis und neue 
 AufgabenJährliche Fortbildungen für Praxisanleitungen in der Pflege (24 S
 td. jährlich vorgeschrieben) Jährliche Fortbildungen für Praxisanleitung
 en in der Pflege (24 Std. jährlich vorgeschrieben) Montag 10.10.2022 &#821
 1; Praxisanleitung in der Pflege I &#8211; die eigene Rolle reflektieren &#
 8211; Montag 07.11.2022 &#8211; Praxisanleitung in der Pflege[..]\nhttps://
 www.familienwerk.de/termine/praxisanleitung-in-der-pflege-i/
URL:https://www.familienwerk.de/termine/praxisanleitung-in-der-pflege-i/
END:VEVENT
END:VCALENDAR