BEGIN:VCALENDAR
VERSION:2.0
PRODID:-//eventon.com NONSGML v1.0//EN
CALSCALE:GREGORIAN
METHOD:PUBLISH
BEGIN:VEVENT
UID:69e74c0bcc2a1
DTSTAMP:20260421T100603Z
DTSTART:20210626T080000Z
DTEND:20210626T150000Z
LOCATION:Hannover - Loccumer Hof Hannover
SUMMARY:Vorstandssitzung
DESCRIPTION:Vorstandssitzung\nhttps://www.familienwerk.de/termine/vorstands
 sitzung/
URL:https://www.familienwerk.de/termine/vorstandssitzung/
END:VEVENT
END:VCALENDAR