BEGIN:VCALENDAR
VERSION:2.0
PRODID:-//eventon.com NONSGML v1.0//EN
CALSCALE:GREGORIAN
METHOD:PUBLISH
BEGIN:VEVENT
UID:69e60991839c3
DTSTAMP:20260420T111009Z
DTSTART:20260120T170000Z
DTEND:20260120T200000Z
LOCATION:
SUMMARY:Informationsabend-Wie werde ich Pflegefamilie?
DESCRIPTION:Uhrzeit: 17-20 Uhr Veranstaltungsort: Fachberatung Pflegefamili
 en Amtsfreiheit 4 37186 Moringen 05554 995986-0 fb-info@familienwerk.de\nht
 tps://www.familienwerk.de/termine/informationsabend-wie-werde-ich-pflegefam
 ilie-5/
URL:https://www.familienwerk.de/termine/informationsabend-wie-werde-ich-pflegefamilie-5/
END:VEVENT
END:VCALENDAR